BEGIN:VCALENDAR
VERSION:2.0
PRODID:-//Colegio Oficial de Ingenieros Aeronáuticos de España - ECPv6.15.17//NONSGML v1.0//EN
CALSCALE:GREGORIAN
METHOD:PUBLISH
X-WR-CALNAME:Colegio Oficial de Ingenieros Aeronáuticos de España
X-ORIGINAL-URL:https://coiae.es
X-WR-CALDESC:Eventos para Colegio Oficial de Ingenieros Aeronáuticos de España
REFRESH-INTERVAL;VALUE=DURATION:PT1H
X-Robots-Tag:noindex
X-PUBLISHED-TTL:PT1H
BEGIN:VTIMEZONE
TZID:UTC
BEGIN:STANDARD
TZOFFSETFROM:+0000
TZOFFSETTO:+0000
TZNAME:UTC
DTSTART:20220101T000000
END:STANDARD
END:VTIMEZONE
BEGIN:VEVENT
DTSTART;TZID=UTC:20231214T180000
DTEND;TZID=UTC:20231214T180000
DTSTAMP:20260424T084325
CREATED:20231124T094720Z
LAST-MODIFIED:20231201T095505Z
UID:35410-1702576800-1702576800@coiae.es
SUMMARY:Entrega de las medallas por los 40 años de profesión y los premios anuales del COIAE.
DESCRIPTION:Todos los interesados en asistir al acto pueden inscribirse a través de info@coiae.es
URL:https://coiae.es/evento/entrega-de-las-medallas-por-los-40-anos-de-profesion-y-los-premios-anuales-del-coiae/
CATEGORIES:Actividad,Evento
END:VEVENT
END:VCALENDAR