BEGIN:VCALENDAR
VERSION:2.0
PRODID:-//Colegio Oficial de Ingenieros Aeronáuticos de España - ECPv6.15.17//NONSGML v1.0//EN
CALSCALE:GREGORIAN
METHOD:PUBLISH
X-ORIGINAL-URL:https://coiae.es
X-WR-CALDESC:Eventos para Colegio Oficial de Ingenieros Aeronáuticos de España
REFRESH-INTERVAL;VALUE=DURATION:PT1H
X-Robots-Tag:noindex
X-PUBLISHED-TTL:PT1H
BEGIN:VTIMEZONE
TZID:UTC
BEGIN:STANDARD
TZOFFSETFROM:+0000
TZOFFSETTO:+0000
TZNAME:UTC
DTSTART:20230101T000000
END:STANDARD
END:VTIMEZONE
BEGIN:VEVENT
DTSTART;TZID=UTC:20241119T183000
DTEND;TZID=UTC:20241119T203000
DTSTAMP:20260423T085415
CREATED:20241104T105036Z
LAST-MODIFIED:20241120T101309Z
UID:37348-1732041000-1732048200@coiae.es
SUMMARY:Jornada: "El hidrógeno en la aviación"
DESCRIPTION:Os recordamos que el Colegio y la Alianza por el Hidrógeno en la aviación hemos organizado una jornada que tendrá lugar el próximo 19 de noviembre\, a las 18:30 en el Salón de actos del Instituto de la Ingeniería de España. \n\n\n \nA continuación\, os adjuntamos el programa de la jornada: \n\n\n \nPrograma. 19 de noviembre \n\n\n \n18:30 – 18:45. Inauguración de la jornada. D. José Manuel Hesse Martín. Decano del Colegio Oficial de Ingenieros Aeronáuticos de España. \n\n\n \n18:45 – 19:30. Mesa redonda 1: “Producción y distribución de hidrogeno”. \n\n\n \nCon los siguientes ponentes: \n\n\n \n\nDña. Laura Arias Corredera. Jefa del departamento de tecnologías de la sostenibilidad de Aena. \n\n\n\nDña. Florimar Ceballos Rivas. Coordinadora de la Secretaría Técnica de la Plataforma Tecnológica Española del Hidrógeno (PTe H2). \n\n\n\nDña. Ana Nieto Riaguas. Gestor senior hidrógeno para Movilidad en Repsol. \n\n\n\nD. Fernando Impuesto Nogueras. Director de Desarrollo de Negocio de Enagas.\n\n\n\n \nModera: D. Óscar Castro Álvarez. Miembro del comité de sostenibilidad del COIAE. \n\n\n \n19:30 – 20:15. Mesa redonda2: “Tecnologías de avión- hidrógeno”. \n\n\n \nCon los siguientes ponentes: \n\n\n \n\nD. Jesús Maellas Benito. Jefe del Área de Energía y Medioambiente\, departamento de Propulsión de INTA. \n\n\n\nDña. Marta Maroño Buján. Experta en hidrógeno y seguridad en Airbus. \n\n\n\nD. Ignacio Echavarría Díaz-Guardamino. CTO/Director de Ingeniería en Dovetail. \n\n\n\nD. Abel Jiménez Crisostomo. Ingeniero Jefe de Nuevos Proyectos en ITP Aero.\n\n\n\n \nModera: D. Juan Sebastián Montero Yáñez. Miembro del comité de sostenibilidad del COIAE. \n\n\n \n20:15. Vino español. \n\n\n \nTodos los interesados en asistir tanto presencial como telemáticamente escribid por favor al email jornadas@coiae.es.
URL:https://coiae.es/evento/jornada-el-hidrogeno-en-la-aviacion/
CATEGORIES:Actividad,Evento
END:VEVENT
END:VCALENDAR