BEGIN:VCALENDAR
VERSION:2.0
PRODID:-//Colegio Oficial de Ingenieros Aeronáuticos de España - ECPv6.15.17//NONSGML v1.0//EN
CALSCALE:GREGORIAN
METHOD:PUBLISH
X-ORIGINAL-URL:https://coiae.es
X-WR-CALDESC:Eventos para Colegio Oficial de Ingenieros Aeronáuticos de España
REFRESH-INTERVAL;VALUE=DURATION:PT1H
X-Robots-Tag:noindex
X-PUBLISHED-TTL:PT1H
BEGIN:VTIMEZONE
TZID:UTC
BEGIN:STANDARD
TZOFFSETFROM:+0000
TZOFFSETTO:+0000
TZNAME:UTC
DTSTART:20240101T000000
END:STANDARD
END:VTIMEZONE
BEGIN:VEVENT
DTSTART;TZID=UTC:20250507T181500
DTEND;TZID=UTC:20250507T191500
DTSTAMP:20260422T091304
CREATED:20250210T092627Z
LAST-MODIFIED:20250210T092627Z
UID:37653-1746641700-1746645300@coiae.es
SUMMARY:Reunión del Grupo de Expertos de Industria/UAVs
DESCRIPTION:Miércoles 7 de mayo a las 18.15 horas por videoconferencia.
URL:https://coiae.es/evento/reunion-del-grupo-de-expertos-de-industria-uavs-31/
CATEGORIES:Actividad,Reunión
END:VEVENT
END:VCALENDAR