BEGIN:VCALENDAR
VERSION:2.0
PRODID:-//Colegio Oficial de Ingenieros Aeronáuticos de España - ECPv6.15.17//NONSGML v1.0//EN
CALSCALE:GREGORIAN
METHOD:PUBLISH
X-ORIGINAL-URL:https://coiae.es
X-WR-CALDESC:Eventos para Colegio Oficial de Ingenieros Aeronáuticos de España
REFRESH-INTERVAL;VALUE=DURATION:PT1H
X-Robots-Tag:noindex
X-PUBLISHED-TTL:PT1H
BEGIN:VTIMEZONE
TZID:UTC
BEGIN:STANDARD
TZOFFSETFROM:+0000
TZOFFSETTO:+0000
TZNAME:UTC
DTSTART:20240101T000000
END:STANDARD
END:VTIMEZONE
BEGIN:VEVENT
DTSTART;TZID=UTC:20250513T183000
DTEND;TZID=UTC:20250513T190000
DTSTAMP:20260424T084527
CREATED:20250424T101441Z
LAST-MODIFIED:20250424T101441Z
UID:38283-1747161000-1747162800@coiae.es
SUMMARY:Jornada virtual: "DESARROLLOS TECNOLÓGICOS AVANZADOS EN AIRBUS OPERACIONES S.L. LIGADOS A SOSTENIBILIDAD”
DESCRIPTION:Os recordamos que el comité de sostenibilidad del COIAE\, que se reúne mensualmente con el objetivo de visibilizar los avances\, retos y compromisos del sector aeronáutico en el campo de la sostenibilidad\, ha promovido la siguiente jornada:  \nTítulo:  «DESARROLLOS TECNOLÓGICOS AVANZADOS EN AIRBUS OPERACIONES S.L. LIGADOS A SOSTENIBILIDAD”.  \nFrancisco Escobar nos informará sobre los proyectos de la compañía Airbus con más proyección a futuro en el ámbito de la sostenibilidad.  \nPonente: D. Francisco Escobar Benavides. Ho RFE Airframe A&I de Airbus Operaciones S.L.  \nFecha: 13 de mayo a las 18:30 horas (streaming). Con una duración de 15 minutos. Los interesados podéis inscribiros en: jornadas@coiae.es
URL:https://coiae.es/evento/jornada-virtual-desarrollos-tecnologicos-avanzados-en-airbus-operaciones-s-l-ligados-a-sostenibilidad/
CATEGORIES:Actividad,Evento
END:VEVENT
BEGIN:VEVENT
DTSTART;TZID=UTC:20250513T183000
DTEND;TZID=UTC:20250513T200000
DTSTAMP:20260424T084527
CREATED:20241223T105109Z
LAST-MODIFIED:20241223T105109Z
UID:37550-1747161000-1747166400@coiae.es
SUMMARY:Reunión del comité de sostenibilidad del COIAE
DESCRIPTION:Martes 13 de mayo a las 18:30 horas por videoconferencia
URL:https://coiae.es/evento/reunion-del-comite-de-sostenibilidad-del-coiae-49/
CATEGORIES:Actividad,Reunión
END:VEVENT
END:VCALENDAR