BEGIN:VCALENDAR
VERSION:2.0
PRODID:-//Colegio Oficial de Ingenieros Aeronáuticos de España - ECPv6.15.17//NONSGML v1.0//EN
CALSCALE:GREGORIAN
METHOD:PUBLISH
X-ORIGINAL-URL:https://coiae.es
X-WR-CALDESC:Eventos para Colegio Oficial de Ingenieros Aeronáuticos de España
REFRESH-INTERVAL;VALUE=DURATION:PT1H
X-Robots-Tag:noindex
X-PUBLISHED-TTL:PT1H
BEGIN:VTIMEZONE
TZID:UTC
BEGIN:STANDARD
TZOFFSETFROM:+0000
TZOFFSETTO:+0000
TZNAME:UTC
DTSTART:20240101T000000
END:STANDARD
END:VTIMEZONE
BEGIN:VEVENT
DTSTART;TZID=UTC:20250609T160000
DTEND;TZID=UTC:20250611T200000
DTSTAMP:20260422T105222
CREATED:20250509T064639Z
LAST-MODIFIED:20250509T064909Z
UID:38330-1749484800-1749672000@coiae.es
SUMMARY:Curso EASA parte 145
DESCRIPTION:9\, 10 y 11 de junio. 16:00 a 20:00. 590€ (para colegiados 295€). Ver syllabus.
URL:https://coiae.es/evento/curso-easa-parte-145-4/
CATEGORIES:Actividad,Curso
END:VEVENT
END:VCALENDAR