BEGIN:VCALENDAR
VERSION:2.0
PRODID:-//Colegio Oficial de Ingenieros Aeronáuticos de España - ECPv6.15.17//NONSGML v1.0//EN
CALSCALE:GREGORIAN
METHOD:PUBLISH
X-ORIGINAL-URL:https://coiae.es
X-WR-CALDESC:Eventos para Colegio Oficial de Ingenieros Aeronáuticos de España
REFRESH-INTERVAL;VALUE=DURATION:PT1H
X-Robots-Tag:noindex
X-PUBLISHED-TTL:PT1H
BEGIN:VTIMEZONE
TZID:UTC
BEGIN:STANDARD
TZOFFSETFROM:+0000
TZOFFSETTO:+0000
TZNAME:UTC
DTSTART:20200101T000000
END:STANDARD
END:VTIMEZONE
BEGIN:VEVENT
DTSTART;VALUE=DATE:20211102
DTEND;VALUE=DATE:20211103
DTSTAMP:20260423T090920
CREATED:20211102T000000Z
LAST-MODIFIED:20211102T000000Z
UID:32899-1635811200-1635897599@coiae.es
SUMMARY:Reunión del Grupo de Expertos de Industria/UAVs
DESCRIPTION:2 de noviembre a las 19 horas por videoconferencia.
URL:https://coiae.es/evento/reunion-del-grupo-de-expertos-de-industria-uavs-9/
CATEGORIES:Actividad
ATTACH;FMTTYPE=image/png:https://coiae.es/wp-content/uploads/2023/03/932db3cad4d9a8c4e259b883e3336c75.png
END:VEVENT
BEGIN:VEVENT
DTSTART;VALUE=DATE:20211103
DTEND;VALUE=DATE:20211104
DTSTAMP:20260423T090920
CREATED:20211103T000000Z
LAST-MODIFIED:20211103T000000Z
UID:32902-1635897600-1635983999@coiae.es
SUMMARY:Reunión Junta Directiva
DESCRIPTION:3 de noviembre a las 19 horas por videoconferencia.
URL:https://coiae.es/evento/reunion-junta-directiva-20/
CATEGORIES:Actividad
ATTACH;FMTTYPE=image/png:https://coiae.es/wp-content/uploads/2023/03/31622c0394bc84fc8bd270cff051e6b5.png
END:VEVENT
BEGIN:VEVENT
DTSTART;VALUE=DATE:20211103
DTEND;VALUE=DATE:20211104
DTSTAMP:20260423T090920
CREATED:20211103T000000Z
LAST-MODIFIED:20211103T000000Z
UID:32925-1635897600-1635983999@coiae.es
SUMMARY:Impulsa tu carrera profesional en el contexto actual
DESCRIPTION:
URL:https://coiae.es/evento/impulsa-tu-carrera-profesional-en-el-contexto-actual-3/
CATEGORIES:Actividad
ATTACH;FMTTYPE=image/png:https://coiae.es/wp-content/uploads/2023/03/24dd1e66d424fa67b0f0c402ee0b005b.png
END:VEVENT
BEGIN:VEVENT
DTSTART;VALUE=DATE:20211110
DTEND;VALUE=DATE:20211111
DTSTAMP:20260423T090920
CREATED:20211110T000000Z
LAST-MODIFIED:20211110T000000Z
UID:32898-1636502400-1636588799@coiae.es
SUMMARY:Curso oposicones
DESCRIPTION:10 de noviembre a las 17:30 horas por videoconferencia.
URL:https://coiae.es/evento/curso-oposicones/
CATEGORIES:Actividad
ATTACH;FMTTYPE=image/png:https://coiae.es/wp-content/uploads/2023/03/d776a17b623ed6d893e6cbd4e61781fd.png
END:VEVENT
BEGIN:VEVENT
DTSTART;VALUE=DATE:20211111
DTEND;VALUE=DATE:20211112
DTSTAMP:20260423T090920
CREATED:20211111T000000Z
LAST-MODIFIED:20211111T000000Z
UID:32901-1636588800-1636675199@coiae.es
SUMMARY:Reunión del Comité de Sostenibilidad del COIAE
DESCRIPTION:11 de noviembre a las 18:30 horas por videoconferencia.
URL:https://coiae.es/evento/reunion-del-comite-de-sostenibilidad-del-coiae-16/
CATEGORIES:Actividad
ATTACH;FMTTYPE=image/png:https://coiae.es/wp-content/uploads/2023/03/7a577dfd600239ff0063fd89436d8e56.png
END:VEVENT
BEGIN:VEVENT
DTSTART;VALUE=DATE:20211115
DTEND;VALUE=DATE:20211116
DTSTAMP:20260423T090920
CREATED:20211115T000000Z
LAST-MODIFIED:20211115T000000Z
UID:32906-1636934400-1637020799@coiae.es
SUMMARY:Curso de certificación de drones
DESCRIPTION:
URL:https://coiae.es/evento/curso-de-certificacion-de-drones-2/
CATEGORIES:Actividad
ATTACH;FMTTYPE=image/png:https://coiae.es/wp-content/uploads/2023/03/adc979c795076aa25e6716e541e12831.png
END:VEVENT
BEGIN:VEVENT
DTSTART;VALUE=DATE:20211122
DTEND;VALUE=DATE:20211123
DTSTAMP:20260423T090920
CREATED:20211122T000000Z
LAST-MODIFIED:20211122T000000Z
UID:32894-1637539200-1637625599@coiae.es
SUMMARY:Impulsa tu carrera profesional en el contexto actual
DESCRIPTION:
URL:https://coiae.es/evento/impulsa-tu-carrera-profesional-en-el-contexto-actual/
CATEGORIES:Actividad
ATTACH;FMTTYPE=image/png:https://coiae.es/wp-content/uploads/2023/03/3c3fd2c920104cabe333e8ebe275f079.png
END:VEVENT
BEGIN:VEVENT
DTSTART;VALUE=DATE:20211122
DTEND;VALUE=DATE:20211123
DTSTAMP:20260423T090920
CREATED:20211122T000000Z
LAST-MODIFIED:20211122T000000Z
UID:32905-1637539200-1637625599@coiae.es
SUMMARY:Curso de certificación de drones
DESCRIPTION:
URL:https://coiae.es/evento/curso-de-certificacion-de-drones/
CATEGORIES:Actividad
ATTACH;FMTTYPE=image/png:https://coiae.es/wp-content/uploads/2023/03/b96011ddfeffbdcd13e89fd3e7bc0aa9.png
END:VEVENT
BEGIN:VEVENT
DTSTART;VALUE=DATE:20211124
DTEND;VALUE=DATE:20211125
DTSTAMP:20260423T090920
CREATED:20211124T000000Z
LAST-MODIFIED:20211124T000000Z
UID:32896-1637712000-1637798399@coiae.es
SUMMARY:Reunión Junta Directiva
DESCRIPTION:24 de noviembre de 2021 por videoconferencia.
URL:https://coiae.es/evento/reunion-junta-directiva-19/
CATEGORIES:Actividad
ATTACH;FMTTYPE=image/png:https://coiae.es/wp-content/uploads/2023/03/06c6c3f361d0c428e7e8b445c3966b01.png
END:VEVENT
BEGIN:VEVENT
DTSTART;VALUE=DATE:20211125
DTEND;VALUE=DATE:20211126
DTSTAMP:20260423T090920
CREATED:20211125T000000Z
LAST-MODIFIED:20211125T000000Z
UID:32892-1637798400-1637884799@coiae.es
SUMMARY:Jornada: Aerolíneas y COVID-19. ¿Se ha iniciado la recuperación?
DESCRIPTION:
URL:https://coiae.es/evento/jornada-aerolineas-y-covid-19-se-ha-iniciado-la-recuperacion/
CATEGORIES:Actividad
END:VEVENT
END:VCALENDAR