BEGIN:VCALENDAR
VERSION:2.0
PRODID:-//Colegio Oficial de Ingenieros Aeronáuticos de España - ECPv6.15.17//NONSGML v1.0//EN
CALSCALE:GREGORIAN
METHOD:PUBLISH
X-WR-CALNAME:Colegio Oficial de Ingenieros Aeronáuticos de España
X-ORIGINAL-URL:https://coiae.es
X-WR-CALDESC:Eventos para Colegio Oficial de Ingenieros Aeronáuticos de España
REFRESH-INTERVAL;VALUE=DURATION:PT1H
X-Robots-Tag:noindex
X-PUBLISHED-TTL:PT1H
BEGIN:VTIMEZONE
TZID:UTC
BEGIN:STANDARD
TZOFFSETFROM:+0000
TZOFFSETTO:+0000
TZNAME:UTC
DTSTART:20230101T000000
END:STANDARD
END:VTIMEZONE
BEGIN:VEVENT
DTSTART;TZID=UTC:20240109T183000
DTEND;TZID=UTC:20240109T190000
DTSTAMP:20260422T103527
CREATED:20240103T133815Z
LAST-MODIFIED:20240103T133815Z
UID:35612-1704825000-1704826800@coiae.es
SUMMARY:Jornada virtual: “Ruido: objetivo de Europa 2030”.
DESCRIPTION:Nos complace anunciar que el comité de sostenibilidad del COIAE\, que se reúne mensualmente con el objetivo de visibilizar los avances\, retos y compromisos del sector aeronáutico en el campo de la sostenibilidad\, ha promovido la siguiente jornada:  \nTítulo:  “Ruido: objetivo de Europa 2030”.  \nDesde la Dirección General de Aviación Civil nos cuentan los objetivos fijados para el 2030 en relación al ruido del transporte aéreo. \nPonente: D. Álvaro Fernández-Iruegas Pombo. Subdirector de Aeropuertos y Navegación Aérea de la DGAC. \nFecha: 9 de enero a las 18:30 horas (streaming). Con una duración de 15 minutos. Los interesados podéis inscribiros en: jornadas@coiae.es.
URL:https://coiae.es/evento/jornada-virtual-ruido-objetivo-de-europa-2030/
CATEGORIES:Actividad,Evento
END:VEVENT
BEGIN:VEVENT
DTSTART;TZID=UTC:20240109T190000
DTEND;TZID=UTC:20240109T200000
DTSTAMP:20260422T103527
CREATED:20231213T085747Z
LAST-MODIFIED:20231213T085747Z
UID:35539-1704826800-1704830400@coiae.es
SUMMARY:Reunión del comité de sostenibilidad del COIAE
DESCRIPTION:Martes 9 de enero a las 19:00 horas por videoconferencia.
URL:https://coiae.es/evento/reunion-del-comite-de-sostenibilidad-del-coiae-34/
CATEGORIES:Actividad,Reunión
END:VEVENT
BEGIN:VEVENT
DTSTART;TZID=UTC:20240110T190000
DTEND;TZID=UTC:20240110T200000
DTSTAMP:20260422T103527
CREATED:20231213T085045Z
LAST-MODIFIED:20231213T085045Z
UID:35537-1704913200-1704916800@coiae.es
SUMMARY:Reunión del Grupo de Expertos de Industria/UAVs
DESCRIPTION:Miercoles 10 de enero a las 19:00 horas en la sede del COIAE
URL:https://coiae.es/evento/reunion-del-grupo-de-expertos-de-industria-uavs-21/
CATEGORIES:Actividad,Reunión
END:VEVENT
BEGIN:VEVENT
DTSTART;TZID=UTC:20240116T190000
DTEND;TZID=UTC:20240116T210000
DTSTAMP:20260422T103527
CREATED:20240108T142946Z
LAST-MODIFIED:20240110T071351Z
UID:35626-1705431600-1705438800@coiae.es
SUMMARY:Reunión de Junta Directiva
DESCRIPTION:Martes 16 de enero a las 19 horas en la sede del COIAE
URL:https://coiae.es/evento/reunion-de-junta-directiva-6/
CATEGORIES:Actividad,Reunión
END:VEVENT
BEGIN:VEVENT
DTSTART;TZID=UTC:20240117T180000
DTEND;TZID=UTC:20240117T190000
DTSTAMP:20260422T103527
CREATED:20231227T152315Z
LAST-MODIFIED:20231227T152508Z
UID:35601-1705514400-1705518000@coiae.es
SUMMARY:Jornada: "New Space y emprendimiento espacial en España".
DESCRIPTION:
URL:https://coiae.es/evento/jornada-new-space-y-emprendimiento-espacial-en-espana/
CATEGORIES:Actividad,Evento
END:VEVENT
END:VCALENDAR