BEGIN:VCALENDAR
VERSION:2.0
PRODID:-//Colegio Oficial de Ingenieros Aeronáuticos de España - ECPv6.15.17//NONSGML v1.0//EN
CALSCALE:GREGORIAN
METHOD:PUBLISH
X-ORIGINAL-URL:https://coiae.es
X-WR-CALDESC:Eventos para Colegio Oficial de Ingenieros Aeronáuticos de España
REFRESH-INTERVAL;VALUE=DURATION:PT1H
X-Robots-Tag:noindex
X-PUBLISHED-TTL:PT1H
BEGIN:VTIMEZONE
TZID:UTC
BEGIN:STANDARD
TZOFFSETFROM:+0000
TZOFFSETTO:+0000
TZNAME:UTC
DTSTART:20230101T000000
END:STANDARD
END:VTIMEZONE
BEGIN:VEVENT
DTSTART;TZID=UTC:20240207T190000
DTEND;TZID=UTC:20240207T200000
DTSTAMP:20260422T104142
CREATED:20240123T145950Z
LAST-MODIFIED:20240124T101436Z
UID:35733-1707332400-1707336000@coiae.es
SUMMARY:Reunión del Grupo de Expertos de Industria/UAVs
DESCRIPTION:Miércoles 7 de febrero a las 19.00 horas en la sede del COIAE
URL:https://coiae.es/evento/reunion-del-grupo-de-expertos-de-industria-uavs-22/
CATEGORIES:Actividad,Reunión
END:VEVENT
BEGIN:VEVENT
DTSTART;TZID=UTC:20240213T190000
DTEND;TZID=UTC:20240213T200000
DTSTAMP:20260422T104142
CREATED:20240124T101855Z
LAST-MODIFIED:20240124T101855Z
UID:35737-1707850800-1707854400@coiae.es
SUMMARY:Reunión del comité de sostenibilidad del COIAE
DESCRIPTION:Martes 13 de febrero a las 19:00 horas por videoconferencia.
URL:https://coiae.es/evento/reunion-del-comite-de-sostenibilidad-del-coiae-35/
CATEGORIES:Actividad,Reunión
END:VEVENT
BEGIN:VEVENT
DTSTART;TZID=UTC:20240221T190000
DTEND;TZID=UTC:20240221T210000
DTSTAMP:20260422T104142
CREATED:20240108T143755Z
LAST-MODIFIED:20240111T160844Z
UID:35629-1708542000-1708549200@coiae.es
SUMMARY:Reunión de Junta Directiva
DESCRIPTION:Miércoles 21 de febrero a las 19 horas en la sede del COIAE
URL:https://coiae.es/evento/reunion-de-junta-directiva-7/
CATEGORIES:Actividad,Reunión
END:VEVENT
END:VCALENDAR