BEGIN:VCALENDAR
VERSION:2.0
PRODID:-//Colegio Oficial de Ingenieros Aeronáuticos de España - ECPv6.15.17//NONSGML v1.0//EN
CALSCALE:GREGORIAN
METHOD:PUBLISH
X-ORIGINAL-URL:https://coiae.es
X-WR-CALDESC:Eventos para Colegio Oficial de Ingenieros Aeronáuticos de España
REFRESH-INTERVAL;VALUE=DURATION:PT1H
X-Robots-Tag:noindex
X-PUBLISHED-TTL:PT1H
BEGIN:VTIMEZONE
TZID:UTC
BEGIN:STANDARD
TZOFFSETFROM:+0000
TZOFFSETTO:+0000
TZNAME:UTC
DTSTART:20230101T000000
END:STANDARD
END:VTIMEZONE
BEGIN:VEVENT
DTSTART;TZID=UTC:20240910T183000
DTEND;TZID=UTC:20240910T190000
DTSTAMP:20260424T084501
CREATED:20240903T084835Z
LAST-MODIFIED:20240903T085018Z
UID:36566-1725993000-1725994800@coiae.es
SUMMARY:Jornada virtual: “Tarmac Aerosave: Una solución integral y sostenible para la gestión del fin de vida útil de la aviación comercial”.
DESCRIPTION:Os recordamos que el comité de sostenibilidad del COIAE\, que se reúne mensualmente con el objetivo de visibilizar los avances\, retos y compromisos del sector aeronáutico en el campo de la sostenibilidad\, ha promovido la siguiente jornada: \nTítulo: “Tarmac Aerosave: Una solución integral y sostenible para la gestión del fin de vida útil de la aviación comercial”. \nDesde TARMAC AEROSAVE nos contarán sus avances en el reciclaje/reutilización de los distintos componentes de las aeronaves comerciales. \nPonente: D. José Moliner Povar. Teruel Site Director en TARMAC AEROSAVE. Fecha: 10 de septiembre a las 18:30 horas (streaming). Con una duración de 15 minutos. Los interesados podéis inscribiros en: jornadas@coiae.es
URL:https://coiae.es/evento/jornada-virtual-tarmac-aerosave-una-solucion-integral-y-sostenible-para-la-gestion-del-fin-de-vida-util-de-la-aviacion-comercial/
CATEGORIES:Actividad,Reunión
END:VEVENT
BEGIN:VEVENT
DTSTART;TZID=UTC:20240910T190000
DTEND;TZID=UTC:20240910T200000
DTSTAMP:20260424T084501
CREATED:20240903T085310Z
LAST-MODIFIED:20240903T085310Z
UID:36568-1725994800-1725998400@coiae.es
SUMMARY:Reunión del comité de sostenibilidad del COIAE
DESCRIPTION:Martes 10 de septiembre a las 19:00 horas por videoconferencia.
URL:https://coiae.es/evento/reunion-del-comite-de-sostenibilidad-del-coiae-41/
CATEGORIES:Actividad,Reunión
END:VEVENT
BEGIN:VEVENT
DTSTART;TZID=UTC:20240918T190000
DTEND;TZID=UTC:20240918T210000
DTSTAMP:20260424T084501
CREATED:20240111T162937Z
LAST-MODIFIED:20240111T162937Z
UID:35698-1726686000-1726693200@coiae.es
SUMMARY:Reunión de Junta Directiva
DESCRIPTION:Miércoles 18 de septiembre a las 19 horas en la sede del COIAE
URL:https://coiae.es/evento/reunion-de-junta-directiva-13/
CATEGORIES:Actividad,Reunión
END:VEVENT
BEGIN:VEVENT
DTSTART;TZID=UTC:20240919T130000
DTEND;TZID=UTC:20240919T170000
DTSTAMP:20260424T084501
CREATED:20240905T094555Z
LAST-MODIFIED:20240905T094555Z
UID:36625-1726750800-1726765200@coiae.es
SUMMARY:Curso MATLAB orientado a la ingeniería y la investigación
DESCRIPTION:VER DETALLES
URL:https://coiae.es/evento/curso-matlab-orientado-a-la-ingenieria-y-la-investigacion/2024-09-19/
CATEGORIES:Actividad,Curso
END:VEVENT
BEGIN:VEVENT
DTSTART;TZID=UTC:20240930T190000
DTEND;TZID=UTC:20240930T210000
DTSTAMP:20260424T084501
CREATED:20240924T081854Z
LAST-MODIFIED:20240925T092430Z
UID:36796-1727722800-1727730000@coiae.es
SUMMARY:Jornada: “Presente y futuro del SAF”
DESCRIPTION:Os anunciamos que el próximo 30 de septiembre a las 19:00 horas\, tendrá lugar en el Salón de actos de Instituto de la Ingeniería de España\, C/General Arrando 38 (Madrid) la celebración de la jornada: \n“Presente y futuro del SAF” \nEn la jornada se presentará oficialmente la adenda del informe de sostenibilidad de Colegio con todos los avances de 2023. A continuación\, se debatirá sobre el estado actual del SAF en España. \nA continuación\, os adjuntamos el programa de la jornada: \nPrograma. 30 de septiembre \n19:00 – 19:15. Inauguración de la jornada y presentación de la adenda del informe de sostenibilidad del COIAE 2023. D. José Manuel Hesse Martín. Decano del Colegio Oficial de Ingenieros Aeronáuticos de España y Presidente de la Asociación de Ingenieros Aeronáuticos de España. \n19:15 – 20:30. Mesa redonda: El SAF la solución a corto y medio plazo para descarbonizar la aviación. \nCon los siguientes ponentes: \n\nD. Arturo Benito Ruiz de Villa. Profesor ad honorem de la Universidad Politécnica de Madrid.\nD. Fernando Castañón Terán. Jefe de Área de desarrollo y sostenibilidad de la DGAC.\nD. Jaime Reaño Costales. Responsable de Regulación de Aviación Sostenible de Cepsa.\nD. Mario Rodríguez Vargas. Director Asociado de Transición Justa y Alianzas Globales en ECODES.\nD. Francisco José Lucas Ochoa. Head of Sustainable Aviation and Technical Assistance en Repsol.\nD. Santiago Lopezbarrena Arenas. Sustainability Manager en Vueling.\n\nModera: D. Juan José Regidor Ipiña. Coordinador del comité de sostenibilidad del COIAE. \n20:30 – 20:45. Preguntas y respuestas. Turno para el público asistente. \n20:45 – 20:55. CLAUSURA de la jornada. D. José Manuel Hesse Martín. Decano del Colegio Oficial de Ingenieros Aeronáuticos de España y Presidente de la Asociación de Ingenieros Aeronáuticos de España. \n21:00. Vino español. \nPuede descargar el programa en PDF desde este enlace. \nTodos los interesados en asistir tanto presencial como telemáticamente escribid por favor al email jornadas@coiae.es. \nAtentamente\,\nCOIAE/AIAE.
URL:https://coiae.es/evento/jornada-presente-y-futuro-del-saf/
CATEGORIES:Actividad,Evento
END:VEVENT
END:VCALENDAR