BEGIN:VCALENDAR
VERSION:2.0
PRODID:-//Colegio Oficial de Ingenieros Aeronáuticos de España - ECPv6.15.17//NONSGML v1.0//EN
CALSCALE:GREGORIAN
METHOD:PUBLISH
X-WR-CALNAME:Colegio Oficial de Ingenieros Aeronáuticos de España
X-ORIGINAL-URL:https://coiae.es
X-WR-CALDESC:Eventos para Colegio Oficial de Ingenieros Aeronáuticos de España
REFRESH-INTERVAL;VALUE=DURATION:PT1H
X-Robots-Tag:noindex
X-PUBLISHED-TTL:PT1H
BEGIN:VTIMEZONE
TZID:UTC
BEGIN:STANDARD
TZOFFSETFROM:+0000
TZOFFSETTO:+0000
TZNAME:UTC
DTSTART:20230101T000000
END:STANDARD
END:VTIMEZONE
BEGIN:VEVENT
DTSTART;TZID=UTC:20241202T160000
DTEND;TZID=UTC:20241204T200000
DTSTAMP:20260423T085155
CREATED:20241001T143634Z
LAST-MODIFIED:20241001T143707Z
UID:36869-1733155200-1733342400@coiae.es
SUMMARY:Curso EASA parte 145
DESCRIPTION:Curso EASA parte 145. Los días 2\, 3 y 4 de diciembre de 16:00 a 20:00. Precio del curso 590 € (para colegiados 295 €). \nVer detalles del curso
URL:https://coiae.es/evento/curso-easa-parte-145-3/
CATEGORIES:Actividad,Curso
END:VEVENT
BEGIN:VEVENT
DTSTART;TZID=UTC:20241202T160000
DTEND;TZID=UTC:20241205T200000
DTSTAMP:20260423T085155
CREATED:20241001T144119Z
LAST-MODIFIED:20241001T144119Z
UID:36871-1733155200-1733428800@coiae.es
SUMMARY:Curso EASA parte 21
DESCRIPTION:Curso EASA parte 21. Los días 2\, 3\, 4 y 5 de diciembre de 16:00 a 20:00. Precio del curso 590 € (para colegiados 295 €). \nVer detalles del curso
URL:https://coiae.es/evento/curso-easa-parte-21-3/
CATEGORIES:Actividad,Curso
END:VEVENT
BEGIN:VEVENT
DTSTART;TZID=UTC:20241209T160000
DTEND;TZID=UTC:20241212T200000
DTSTAMP:20260423T085155
CREATED:20241001T142634Z
LAST-MODIFIED:20241122T144613Z
UID:36867-1733760000-1734033600@coiae.es
SUMMARY:Curso EMAR/PERAM Parte 21
DESCRIPTION:Curso EMAR/PERAM Parte 21. Los días 9\, 10\, 11 y 12 de diciembre de 16:00 a 20:00. Precio del curso 650 € (para colegiados 325 €). \nVer detalles del curso
URL:https://coiae.es/evento/curso-emar-peram-parte-21-3/
CATEGORIES:Actividad,Curso
END:VEVENT
BEGIN:VEVENT
DTSTART;TZID=UTC:20241210T180000
DTEND;TZID=UTC:20241210T203000
DTSTAMP:20260423T085155
CREATED:20241209T090814Z
LAST-MODIFIED:20241209T090814Z
UID:37480-1733853600-1733862600@coiae.es
SUMMARY:Festividad de la Virgen de Loreto 2024
DESCRIPTION:El martes 10 de diciembre de 2024 a las 18:00 horas celebramos la Festividad de nuestra Patrona la Virgen de Loreto en el Instituto de la Ingeniería de España\, situado en la calle General Arrando 38 de Madrid. Allí realizaremos la entrega de las medallas por los 40 años de profesión\, la charla magistral Juan de la Cierva y la entrega de los premios 2024 “Innovación Aeronáutica”\, “Mejor Trabajo Fin de Máster” y “Alas de Oro” del COIAE.\nPROGRAMA \n18:00 –18:15 horas: Bienvenida al evento\, D. José Manuel Hesse. Decano del Colegio Oficial de Ingenieros Aeronáuticos de España. \n18:15 – 19:15 horas: Charla magistral Juan de la Cierva a cargo de D. Juan Carlos Cortés. Director de la Agencia Espacial Española. \n19:15 – 19:45 horas: Entrega de las medallas a los 40 años de profesión de ingeniero aeronáutico. \n19:45 – 20:00 horas: Entrega del premio innovación aeronáutica 2023 a D. Joaquín González\, D. José Antonio Rebollo y D. Francisco Javier Urrios\, como autores del proyecto “Orbita: un nuevo paradigma de simulación espacial“. \n20:00 – 20:15 horas: Entrega del premio MTF del máster habilitante en Ingeniería Aeronáutica de 2024 a Dña. Patricia García Caspueñas\, por su proyecto “Autoencoders for reduction and prediction of fluid flows”. \n20:15 – 20:30 horas: Entrega del premio “Alas de Oro 2024” a nuestro compañero D. Alejandro Ibrahim Perera. \nAl finalizar el acto se servirá un vino español.\nSi desea asistir al acto puede solicitar su inscripción a través de jornadas@coiae.es
URL:https://coiae.es/evento/festividad-de-la-virgen-de-loreto-2024/
CATEGORIES:Actividad,Evento
END:VEVENT
BEGIN:VEVENT
DTSTART;TZID=UTC:20241211T183000
DTEND;TZID=UTC:20241211T193000
DTSTAMP:20260423T085155
CREATED:20241126T080129Z
LAST-MODIFIED:20241210T071847Z
UID:37436-1733941800-1733945400@coiae.es
SUMMARY:Reunión del comité de sostenibilidad del COIAE
DESCRIPTION:Martes 11 de diciembre a las 18:30 horas por videoconferencia.
URL:https://coiae.es/evento/reunion-del-comite-de-sostenibilidad-del-coiae-44/
CATEGORIES:Actividad,Reunión
END:VEVENT
BEGIN:VEVENT
DTSTART;TZID=UTC:20241218T190000
DTEND;TZID=UTC:20241218T200000
DTSTAMP:20260423T085155
CREATED:20240111T163432Z
LAST-MODIFIED:20241002T065146Z
UID:35705-1734548400-1734552000@coiae.es
SUMMARY:Reunión de Junta Directiva
DESCRIPTION:Miércoles 18 de diciembre a las 19 horas en la sede del COIAE
URL:https://coiae.es/evento/reunion-de-junta-directiva-16/
CATEGORIES:Actividad,Reunión
END:VEVENT
END:VCALENDAR