BEGIN:VCALENDAR
VERSION:2.0
PRODID:-//Colegio Oficial de Ingenieros Aeronáuticos de España - ECPv6.15.17//NONSGML v1.0//EN
CALSCALE:GREGORIAN
METHOD:PUBLISH
X-ORIGINAL-URL:https://coiae.es
X-WR-CALDESC:Eventos para Colegio Oficial de Ingenieros Aeronáuticos de España
REFRESH-INTERVAL;VALUE=DURATION:PT1H
X-Robots-Tag:noindex
X-PUBLISHED-TTL:PT1H
BEGIN:VTIMEZONE
TZID:UTC
BEGIN:STANDARD
TZOFFSETFROM:+0000
TZOFFSETTO:+0000
TZNAME:UTC
DTSTART:20240101T000000
END:STANDARD
END:VTIMEZONE
BEGIN:VEVENT
DTSTART;TZID=UTC:20250305T181500
DTEND;TZID=UTC:20250305T191500
DTSTAMP:20260424T084516
CREATED:20250210T090833Z
LAST-MODIFIED:20250210T090901Z
UID:37647-1741198500-1741202100@coiae.es
SUMMARY:Reunión del Grupo de Expertos de Industria/UAVs
DESCRIPTION:Miércoles 5 de marzo a las 18.15 horas por videoconferencia.
URL:https://coiae.es/evento/reunion-del-grupo-de-expertos-de-industria-uavs-29/
CATEGORIES:Actividad,Reunión
END:VEVENT
BEGIN:VEVENT
DTSTART;TZID=UTC:20250311T183000
DTEND;TZID=UTC:20250311T190000
DTSTAMP:20260424T084516
CREATED:20250224T155852Z
LAST-MODIFIED:20250224T155943Z
UID:37764-1741717800-1741719600@coiae.es
SUMMARY:Jornada virtual: “ITP AERO: Avances en Tecnologías Disruptivas de Propulsión”
DESCRIPTION:El comité de sostenibilidad del COIAE\, que se reúne mensualmente con el objetivo de visibilizar los avances\, retos y compromisos del sector aeronáutico en el campo de la sostenibilidad\, ha promovido la siguiente jornada: \nTítulo: “ITP AERO: Avances en Tecnologías Disruptivas de Propulsión”. \nDesde ITP AERO nos contarán los últimos avances dentro de la tecnología disruptiva más vanguardista y sostenible aplicada al campo de la propulsión de la aviación comercial. \nPonente: D. Abel Jiménez Crisóstomo. Jefe de Ingeniería de Proyectos de Ultrafan\, ITP Aero y Profesor Asociado en la Universidad Autónoma de Madrid. \nFecha: 11 de marzo a las 18:30 horas (streaming). Con una duración de 15 minutos. Los interesados podéis inscribiros en: jornadas@coiae.es
URL:https://coiae.es/evento/jornada-virtual-itp-aero-avances-en-tecnologias-disruptivas-de-propulsion/
CATEGORIES:Actividad,Evento
END:VEVENT
BEGIN:VEVENT
DTSTART;TZID=UTC:20250311T190000
DTEND;TZID=UTC:20250311T200000
DTSTAMP:20260424T084516
CREATED:20241223T104436Z
LAST-MODIFIED:20250224T160154Z
UID:37546-1741719600-1741723200@coiae.es
SUMMARY:Reunión del comité de sostenibilidad del COIAE
DESCRIPTION:Martes 11 de marzo a las 18:30 horas por videoconferencia
URL:https://coiae.es/evento/reunion-del-comite-de-sostenibilidad-del-coiae-47/
CATEGORIES:Actividad,Reunión
END:VEVENT
BEGIN:VEVENT
DTSTART;TZID=UTC:20250319T180000
DTEND;TZID=UTC:20250319T200000
DTSTAMP:20260424T084516
CREATED:20241223T095752Z
LAST-MODIFIED:20241223T095752Z
UID:37523-1742407200-1742414400@coiae.es
SUMMARY:Reunión de Junta Directiva
DESCRIPTION:Miércoles 19 de marzo a las 18 horas por videoconferencia
URL:https://coiae.es/evento/reunion-de-junta-directiva-19/
CATEGORIES:Actividad,Reunión
END:VEVENT
BEGIN:VEVENT
DTSTART;TZID=UTC:20250328T160000
DTEND;TZID=UTC:20250328T180000
DTSTAMP:20260424T084516
CREATED:20250326T095947Z
LAST-MODIFIED:20250326T095947Z
UID:37848-1743177600-1743184800@coiae.es
SUMMARY:Reunión de Junta Directiva Extraordinaria
DESCRIPTION:Viernes 28 de marzo a las 16 horas por videoconferencia
URL:https://coiae.es/evento/reunion-de-junta-directiva-extraordinaria/
CATEGORIES:Actividad,Reunión
END:VEVENT
END:VCALENDAR