BEGIN:VCALENDAR
VERSION:2.0
PRODID:-//Colegio Oficial de Ingenieros Aeronáuticos de España - ECPv6.15.17//NONSGML v1.0//EN
CALSCALE:GREGORIAN
METHOD:PUBLISH
X-ORIGINAL-URL:https://coiae.es
X-WR-CALDESC:Eventos para Colegio Oficial de Ingenieros Aeronáuticos de España
REFRESH-INTERVAL;VALUE=DURATION:PT1H
X-Robots-Tag:noindex
X-PUBLISHED-TTL:PT1H
BEGIN:VTIMEZONE
TZID:UTC
BEGIN:STANDARD
TZOFFSETFROM:+0000
TZOFFSETTO:+0000
TZNAME:UTC
DTSTART:20240101T000000
END:STANDARD
END:VTIMEZONE
BEGIN:VEVENT
DTSTART;TZID=UTC:20250402T181500
DTEND;TZID=UTC:20250402T191500
DTSTAMP:20260422T085721
CREATED:20250210T092425Z
LAST-MODIFIED:20250210T092425Z
UID:37651-1743617700-1743621300@coiae.es
SUMMARY:Reunión del Grupo de Expertos de Industria/UAVs
DESCRIPTION:Miércoles 2 de abril a las 18.15 horas por videoconferencia.
URL:https://coiae.es/evento/reunion-del-grupo-de-expertos-de-industria-uavs-30/
CATEGORIES:Actividad,Reunión
END:VEVENT
BEGIN:VEVENT
DTSTART;TZID=UTC:20250408T080000
DTEND;TZID=UTC:20250408T170000
DTSTAMP:20260422T085721
CREATED:20250114T114823Z
LAST-MODIFIED:20250114T114823Z
UID:37578-1744099200-1744131600@coiae.es
SUMMARY:Aniversario del COIAE
DESCRIPTION:
URL:https://coiae.es/evento/aniversario-del-coiae/
CATEGORIES:Actividad,Evento
END:VEVENT
BEGIN:VEVENT
DTSTART;TZID=UTC:20250408T183000
DTEND;TZID=UTC:20250408T200000
DTSTAMP:20260422T085721
CREATED:20241223T104859Z
LAST-MODIFIED:20241223T104859Z
UID:37548-1744137000-1744142400@coiae.es
SUMMARY:Reunión del comité de sostenibilidad del COIAE
DESCRIPTION:Martes 8 de abril a las 18:30 horas por videoconferencia
URL:https://coiae.es/evento/reunion-del-comite-de-sostenibilidad-del-coiae-48/
CATEGORIES:Actividad,Reunión
END:VEVENT
BEGIN:VEVENT
DTSTART;TZID=UTC:20250423T180000
DTEND;TZID=UTC:20250423T200000
DTSTAMP:20260422T085721
CREATED:20241223T100230Z
LAST-MODIFIED:20241223T100230Z
UID:37528-1745431200-1745438400@coiae.es
SUMMARY:Reunión de Junta Directiva
DESCRIPTION:Miércoles 23 de abril a las 18 horas por videoconferencia
URL:https://coiae.es/evento/reunion-de-junta-directiva-21/
CATEGORIES:Actividad,Reunión
END:VEVENT
BEGIN:VEVENT
DTSTART;TZID=UTC:20250423T190000
DTEND;TZID=UTC:20250423T210000
DTSTAMP:20260422T085721
CREATED:20250108T111409Z
LAST-MODIFIED:20250108T111409Z
UID:37571-1745434800-1745442000@coiae.es
SUMMARY:Junta General Ordinaria del COIAE y la AIAE
DESCRIPTION:La Juntas Directivas del COIAE y la AIAE convocan JUNTA GENERAL ORDINARIA\, que tendrá lugar en el Salón de Actos del Instituto de la Ingeniería de España\, c/General Arrando 38\, Madrid\, el día 23 de abril de 2025 a las 18:30 horas en primera convocatoria; y a las 19:00 horas en SEGUNDA CONVOCATORIA (se ruega asistencia en segunda convocatoria).
URL:https://coiae.es/evento/junta-general-ordinaria-del-coiae-y-la-aiae-4/
CATEGORIES:Actividad,Evento,Reunión
END:VEVENT
END:VCALENDAR